BEGIN:VCALENDAR
VERSION:2.0
PRODID:-//Beaufort Watershed Stewards - ECPv6.15.20//NONSGML v1.0//EN
CALSCALE:GREGORIAN
METHOD:PUBLISH
X-WR-CALNAME:Beaufort Watershed Stewards
X-ORIGINAL-URL:https://beaufortwater.org
X-WR-CALDESC:Events for Beaufort Watershed Stewards
REFRESH-INTERVAL;VALUE=DURATION:PT1H
X-Robots-Tag:noindex
X-PUBLISHED-TTL:PT1H
BEGIN:VTIMEZONE
TZID:America/Vancouver
BEGIN:DAYLIGHT
TZOFFSETFROM:-0800
TZOFFSETTO:-0700
TZNAME:PDT
DTSTART:20240310T100000
END:DAYLIGHT
BEGIN:STANDARD
TZOFFSETFROM:-0700
TZOFFSETTO:-0800
TZNAME:PST
DTSTART:20241103T090000
END:STANDARD
BEGIN:DAYLIGHT
TZOFFSETFROM:-0800
TZOFFSETTO:-0700
TZNAME:PDT
DTSTART:20250309T100000
END:DAYLIGHT
BEGIN:STANDARD
TZOFFSETFROM:-0700
TZOFFSETTO:-0800
TZNAME:PST
DTSTART:20251102T090000
END:STANDARD
BEGIN:DAYLIGHT
TZOFFSETFROM:-0800
TZOFFSETTO:-0700
TZNAME:PDT
DTSTART:20260308T100000
END:DAYLIGHT
BEGIN:STANDARD
TZOFFSETFROM:-0700
TZOFFSETTO:-0800
TZNAME:PST
DTSTART:20261101T090000
END:STANDARD
END:VTIMEZONE
BEGIN:VEVENT
DTSTART;TZID=America/Vancouver:20250601T090000
DTEND;TZID=America/Vancouver:20250601T130000
DTSTAMP:20260425T064853
CREATED:20250529T220627Z
LAST-MODIFIED:20250529T220627Z
UID:10000056-1748768400-1748782800@beaufortwater.org
SUMMARY:Refundable Sorting
DESCRIPTION:Sorting refundable is one of BWS’s main revenue sources.  That’s how we buy a lot of our monitoring equipment and pay for general operating expenses (like the website).  Lise is amazing at keeping us all organized and tracking exactly what flows through the sorting system.  We welcome new volunteers to join us for laughs\, a quick time commitment\, and yes\, a bit of stickiness–gloves provided.  Contact info@beaufortwater.org for information on where to join us.
URL:https://beaufortwater.org/event/refundable-sorting/
CATEGORIES:BWS Volunteer Activity
ATTACH;FMTTYPE=image/jpeg:https://beaufortwater.org/wp-content/uploads/2025/05/Lise-and-refundable-stacks-scaled.jpg
ORGANIZER;CN="Beaufort Watershed Stewards":MAILTO:info@beaufortwater.org
END:VEVENT
END:VCALENDAR