BEGIN:VCALENDAR
VERSION:2.0
PRODID:-//Beaufort Watershed Stewards - ECPv6.15.20//NONSGML v1.0//EN
CALSCALE:GREGORIAN
METHOD:PUBLISH
X-WR-CALNAME:Beaufort Watershed Stewards
X-ORIGINAL-URL:https://beaufortwater.org
X-WR-CALDESC:Events for Beaufort Watershed Stewards
REFRESH-INTERVAL;VALUE=DURATION:PT1H
X-Robots-Tag:noindex
X-PUBLISHED-TTL:PT1H
BEGIN:VTIMEZONE
TZID:America/Vancouver
BEGIN:DAYLIGHT
TZOFFSETFROM:-0800
TZOFFSETTO:-0700
TZNAME:PDT
DTSTART:20250309T100000
END:DAYLIGHT
BEGIN:STANDARD
TZOFFSETFROM:-0700
TZOFFSETTO:-0800
TZNAME:PST
DTSTART:20251102T090000
END:STANDARD
BEGIN:DAYLIGHT
TZOFFSETFROM:-0800
TZOFFSETTO:-0700
TZNAME:PDT
DTSTART:20260308T100000
END:DAYLIGHT
BEGIN:STANDARD
TZOFFSETFROM:-0700
TZOFFSETTO:-0800
TZNAME:PST
DTSTART:20261101T090000
END:STANDARD
BEGIN:DAYLIGHT
TZOFFSETFROM:-0800
TZOFFSETTO:-0700
TZNAME:PDT
DTSTART:20270314T100000
END:DAYLIGHT
BEGIN:STANDARD
TZOFFSETFROM:-0700
TZOFFSETTO:-0800
TZNAME:PST
DTSTART:20271107T090000
END:STANDARD
END:VTIMEZONE
BEGIN:VEVENT
DTSTART;TZID=America/Vancouver:20260425T140000
DTEND;TZID=America/Vancouver:20260425T160000
DTSTAMP:20260422T211552
CREATED:20260223T234031Z
LAST-MODIFIED:20260226T225252Z
UID:10000117-1777125600-1777132800@beaufortwater.org
SUMMARY:Local Aquifers: What Our Data Reveal
DESCRIPTION:
URL:https://beaufortwater.org/event/local-aquifers-what-our-data-reveal/
LOCATION:Fanny Bay Community Hall\, 7793 Island Hwy (19A)\, Fanny Bay\, BC\, V0R 1W0\, Canada
CATEGORIES:BWS Public Event
ATTACH;FMTTYPE=image/jpeg:https://beaufortwater.org/wp-content/uploads/2026/02/1AB1463F-3AF8-475D-AD1B-BBD44524C3DA.jpeg
ORGANIZER;CN="Beaufort Watershed Stewards":MAILTO:info@beaufortwater.org
END:VEVENT
END:VCALENDAR