BEGIN:VCALENDAR
VERSION:2.0
PRODID:-//Beaufort Watershed Stewards - ECPv6.15.20//NONSGML v1.0//EN
CALSCALE:GREGORIAN
METHOD:PUBLISH
X-ORIGINAL-URL:https://beaufortwater.org
X-WR-CALDESC:Events for Beaufort Watershed Stewards
REFRESH-INTERVAL;VALUE=DURATION:PT1H
X-Robots-Tag:noindex
X-PUBLISHED-TTL:PT1H
BEGIN:VTIMEZONE
TZID:America/Vancouver
BEGIN:DAYLIGHT
TZOFFSETFROM:-0800
TZOFFSETTO:-0700
TZNAME:PDT
DTSTART:20250309T100000
END:DAYLIGHT
BEGIN:STANDARD
TZOFFSETFROM:-0700
TZOFFSETTO:-0800
TZNAME:PST
DTSTART:20251102T090000
END:STANDARD
BEGIN:DAYLIGHT
TZOFFSETFROM:-0800
TZOFFSETTO:-0700
TZNAME:PDT
DTSTART:20260308T100000
END:DAYLIGHT
BEGIN:STANDARD
TZOFFSETFROM:-0700
TZOFFSETTO:-0800
TZNAME:PST
DTSTART:20261101T090000
END:STANDARD
BEGIN:DAYLIGHT
TZOFFSETFROM:-0800
TZOFFSETTO:-0700
TZNAME:PDT
DTSTART:20270314T100000
END:DAYLIGHT
BEGIN:STANDARD
TZOFFSETFROM:-0700
TZOFFSETTO:-0800
TZNAME:PST
DTSTART:20271107T090000
END:STANDARD
END:VTIMEZONE
BEGIN:VEVENT
DTSTART;TZID=America/Vancouver:20260221T090000
DTEND;TZID=America/Vancouver:20260221T120000
DTSTAMP:20260419T110521
CREATED:20260214T224221Z
LAST-MODIFIED:20260214T224731Z
UID:10000116-1771664400-1771675200@beaufortwater.org
SUMMARY:Mount Arrowsmith Biosphere Region Event
DESCRIPTION:Click title to see full poster.
URL:https://beaufortwater.org/event/2613/
LOCATION:Qualicum Beach Civic Centre\, 124 West 2nd Ave\, Qualicum Beach\, BC\, Canada
CATEGORIES:Stewardship Event
ATTACH;FMTTYPE=image/jpeg:https://beaufortwater.org/wp-content/uploads/2026/02/Image-2026-02-14-at-2.18-PM-scaled.jpeg
END:VEVENT
END:VCALENDAR