BEGIN:VCALENDAR
VERSION:2.0
PRODID:-//Beaufort Watershed Stewards - ECPv6.15.20//NONSGML v1.0//EN
CALSCALE:GREGORIAN
METHOD:PUBLISH
X-ORIGINAL-URL:https://beaufortwater.org
X-WR-CALDESC:Events for Beaufort Watershed Stewards
REFRESH-INTERVAL;VALUE=DURATION:PT1H
X-Robots-Tag:noindex
X-PUBLISHED-TTL:PT1H
BEGIN:VTIMEZONE
TZID:America/Vancouver
BEGIN:DAYLIGHT
TZOFFSETFROM:-0800
TZOFFSETTO:-0700
TZNAME:PDT
DTSTART:20240310T100000
END:DAYLIGHT
BEGIN:STANDARD
TZOFFSETFROM:-0700
TZOFFSETTO:-0800
TZNAME:PST
DTSTART:20241103T090000
END:STANDARD
BEGIN:DAYLIGHT
TZOFFSETFROM:-0800
TZOFFSETTO:-0700
TZNAME:PDT
DTSTART:20250309T100000
END:DAYLIGHT
BEGIN:STANDARD
TZOFFSETFROM:-0700
TZOFFSETTO:-0800
TZNAME:PST
DTSTART:20251102T090000
END:STANDARD
BEGIN:DAYLIGHT
TZOFFSETFROM:-0800
TZOFFSETTO:-0700
TZNAME:PDT
DTSTART:20260308T100000
END:DAYLIGHT
BEGIN:STANDARD
TZOFFSETFROM:-0700
TZOFFSETTO:-0800
TZNAME:PST
DTSTART:20261101T090000
END:STANDARD
END:VTIMEZONE
BEGIN:VEVENT
DTSTART;TZID=America/Vancouver:20250430T183000
DTEND;TZID=America/Vancouver:20250430T200000
DTSTAMP:20260423T143129
CREATED:20250423T173737Z
LAST-MODIFIED:20250423T174157Z
UID:10000018-1746037800-1746043200@beaufortwater.org
SUMMARY:Webinar:  Rooted Resilience: Supporting Forest Health for Community Well-Being
DESCRIPTION:An interactive webinar “cafe”.  Join our two distinguished guest speakers sharing their expertise on forest ecology\, conservation\, and the role forests play in climate and local resilience. \nEngage in interactive discussions with our guest speakers and fellow participants to support forest health in our communities. \nVia zoom – click on event title to register HERE.
URL:https://beaufortwater.org/event/webinar-rooted-resilience-supporting-forest-health-for-community-well-being/
LOCATION:online
CATEGORIES:Stewardship Event
ATTACH;FMTTYPE=image/png:https://beaufortwater.org/wp-content/uploads/2025/04/Rooted-Resilience.png
END:VEVENT
END:VCALENDAR