BEGIN:VCALENDAR
VERSION:2.0
PRODID:-//Beaufort Watershed Stewards - ECPv6.15.20//NONSGML v1.0//EN
CALSCALE:GREGORIAN
METHOD:PUBLISH
X-WR-CALNAME:Beaufort Watershed Stewards
X-ORIGINAL-URL:https://beaufortwater.org
X-WR-CALDESC:Events for Beaufort Watershed Stewards
REFRESH-INTERVAL;VALUE=DURATION:PT1H
X-Robots-Tag:noindex
X-PUBLISHED-TTL:PT1H
BEGIN:VTIMEZONE
TZID:America/Vancouver
BEGIN:DAYLIGHT
TZOFFSETFROM:-0800
TZOFFSETTO:-0700
TZNAME:PDT
DTSTART:20240310T100000
END:DAYLIGHT
BEGIN:STANDARD
TZOFFSETFROM:-0700
TZOFFSETTO:-0800
TZNAME:PST
DTSTART:20241103T090000
END:STANDARD
BEGIN:DAYLIGHT
TZOFFSETFROM:-0800
TZOFFSETTO:-0700
TZNAME:PDT
DTSTART:20250309T100000
END:DAYLIGHT
BEGIN:STANDARD
TZOFFSETFROM:-0700
TZOFFSETTO:-0800
TZNAME:PST
DTSTART:20251102T090000
END:STANDARD
BEGIN:DAYLIGHT
TZOFFSETFROM:-0800
TZOFFSETTO:-0700
TZNAME:PDT
DTSTART:20260308T100000
END:DAYLIGHT
BEGIN:STANDARD
TZOFFSETFROM:-0700
TZOFFSETTO:-0800
TZNAME:PST
DTSTART:20261101T090000
END:STANDARD
END:VTIMEZONE
BEGIN:VEVENT
DTSTART;TZID=America/Vancouver:20250508T080000
DTEND;TZID=America/Vancouver:20250508T160000
DTSTAMP:20260425T143810
CREATED:20250303T032536Z
LAST-MODIFIED:20250304T205058Z
UID:10000004-1746691200-1746720000@beaufortwater.org
SUMMARY:Protecting Salmon from Tire Wear Toxicants: 6PPDQ Workshop 2025
DESCRIPTION:Beginning in 2021\, the BC Conservation Foundation (BCCF) and Vancouver Island University’s (VIU) Applied Environmental Research Labs (AERL) partnered to assess the impacts of tire wear toxins (TWTs)\, specifically the chemical compound 6PPDQ\, along the East Coast of Vancouver Island (ECVI). \nBCCF and AERL have since collaborated with local First Nations\, stewardship groups\, and all levels of government (municipal/regional/federal) across the ECVI to execute a comprehensive monitoring program. \nThe BCCF/VIU AERL project team will be hosting another workshop in Nanaimo\, BC. The event\, Protecting Salmon From Tire Wear Toxicants – 6PPDQ Workshop 2025\, will run for two days: May 8 – 9\, 2025. This event will be split into four sessions this year: 6PPDQ Policy\, Engineering & Solutions\, Monitoring & Lessons Learned\, and Toxicology. There is limited space this year\, so keep an eye on your email for when registration opens.
URL:https://beaufortwater.org/event/protecting-salmon-from-tire-wear-toxicants-6ppdq-workshop-2025/
LOCATION:Nanaimo\, BC
CATEGORIES:Stewardship Event
ATTACH;FMTTYPE=image/png:https://beaufortwater.org/wp-content/uploads/2025/03/sold-out-png-4-1.png
END:VEVENT
END:VCALENDAR